BEGIN:VCALENDAR
VERSION:2.0
PRODID:-//ESI Education - ECPv6.15.20//NONSGML v1.0//EN
CALSCALE:GREGORIAN
METHOD:PUBLISH
X-WR-CALNAME:ESI Education
X-ORIGINAL-URL:https://esi-education.com
X-WR-CALDESC:Events for ESI Education
REFRESH-INTERVAL;VALUE=DURATION:PT1H
X-Robots-Tag:noindex
X-PUBLISHED-TTL:PT1H
BEGIN:VTIMEZONE
TZID:Australia/Melbourne
BEGIN:STANDARD
TZOFFSETFROM:+1100
TZOFFSETTO:+1000
TZNAME:AEST
DTSTART:20250405T160000
END:STANDARD
BEGIN:DAYLIGHT
TZOFFSETFROM:+1000
TZOFFSETTO:+1100
TZNAME:AEDT
DTSTART:20251004T160000
END:DAYLIGHT
BEGIN:STANDARD
TZOFFSETFROM:+1100
TZOFFSETTO:+1000
TZNAME:AEST
DTSTART:20260404T160000
END:STANDARD
BEGIN:DAYLIGHT
TZOFFSETFROM:+1000
TZOFFSETTO:+1100
TZNAME:AEDT
DTSTART:20261003T160000
END:DAYLIGHT
BEGIN:STANDARD
TZOFFSETFROM:+1100
TZOFFSETTO:+1000
TZNAME:AEST
DTSTART:20270403T160000
END:STANDARD
BEGIN:DAYLIGHT
TZOFFSETFROM:+1000
TZOFFSETTO:+1100
TZNAME:AEDT
DTSTART:20271002T160000
END:DAYLIGHT
END:VTIMEZONE
BEGIN:VEVENT
DTSTART;VALUE=DATE:20261124
DTEND;VALUE=DATE:20261127
DTSTAMP:20260422T102000
CREATED:20251226T045607Z
LAST-MODIFIED:20251226T045607Z
UID:10451-1795478400-1795737599@esi-education.com
SUMMARY:ESI Intensive Clinic with Manuela McLean | 24-26 November\, 2026
DESCRIPTION:
URL:https://esi-education.com/clinic/esi-intensive-clinic-with-manuela-mclean-24-26-november-2026/
LOCATION:Basinghall\, 3 Wonderland Ave\, Tuerong\, VIC\, 3915\, Australia
CATEGORIES:Basinghall,Inside Victoria
ORGANIZER;CN="Kristy Kelly (ESI)":MAILTO:info@esi-education.com
END:VEVENT
END:VCALENDAR